BEGIN:VCALENDAR
VERSION:2.0
PRODID:-//wp-events-plugin.com//7.2.3.1//EN
TZID:Australia/Sydney
X-WR-TIMEZONE:Australia/Sydney
BEGIN:VEVENT
UID:3380@unswoc.org
DTSTART;TZID=Australia/Sydney;VALUE=DATE:20240303
DTEND;TZID=Australia/Sydney;VALUE=DATE:20240304
DTSTAMP:20240226T053501Z
URL:https://unswoc.org/wordpress/events/elenora-heights-begginer-sport-cli
 mbing-3-3-24/
SUMMARY:Elenora Heights Begginer Sport Climbing 3/3/24
DESCRIPTION:Hi keen people! - Gabriel\, Ryan and TLIT Caitlin\n\nThis trip 
 will be to Elenora Heights (North Shore)\, which is a nice climbing area\,
  suitable to all ranges of climbing.\n\nWhat you will need for this trip.\
 n\nWater 2L\n\nAppropriate clothing (weather dependent)\n\nMosquito repell
 ant\n\nSunscreen\n\n1x Atc + Carabiner *\n\n1x Harness*\n\n1x Helmet*\n\n1
 x Climbing shoes (optional but recommended.)*\n\nThe * items can be picked
  up from the gear cupboard.\n\n&nbsp\;\n\nTransportation will be organized
  once you are accepted.\n\nStay keen!.\n\n&nbsp\;\n\n&nbsp\;\n\n&nbsp\;
CATEGORIES:Outdoor Climbing
LOCATION:https://www.google.com/maps/place/20-2+Amaroo+Ave,+North+Narrabeen
 +NSW+2101/@-33.7055792,151.2710817,18z/data=!3m1!4b1!4m15!1m8!3m7!1s0x6b0d
 567ea6abee81:0x5017d681632b610!2sElanora+Heights+NSW+2101!3b1!8m2!3d-33.70
 0792!4d151.2790727!16zL20vMDY5MGc1!3m5!1s0x6b0d55ac3fd6cfcd:0xbaa12e26ead7
 79fc!8m2!3d-33.7055808!4d151.2728038!16s%2Fg%2F11g645p4bb?entry=ttu
END:VEVENT
BEGIN:VTIMEZONE
TZID:Australia/Sydney
X-LIC-LOCATION:Australia/Sydney
BEGIN:DAYLIGHT
DTSTART:20231001T030000
TZOFFSETFROM:+1000
TZOFFSETTO:+1100
TZNAME:AEDT
END:DAYLIGHT
END:VTIMEZONE
END:VCALENDAR