BEGIN:VCALENDAR
VERSION:2.0
PRODID:-//wp-events-plugin.com//7.2.3.1//EN
TZID:Australia/Sydney
X-WR-TIMEZONE:Australia/Sydney
BEGIN:VEVENT
UID:3360@unswoc.org
DTSTART;TZID=Australia/Sydney:20231118T090000
DTEND;TZID=Australia/Sydney:20231118T180000
DTSTAMP:20231117T055411Z
URL:https://unswoc.org/wordpress/events/elanora-beginner-outdoor-climbing-
 saturday/
SUMMARY:Elanora Beginner/Intermediate Outdoor Climbing - Saturday
DESCRIPTION:Maddi\, Emily and I (Ryan) will be running a trip to Elanora cr
 ag this Saturday!\n\nI will be doing a gear run tomorrow\, make sure to co
 mment what you need.\n\n9am start\, finishing whenever we're feeling done.
 \n\nThe weather forcast says 22° which is lovely for climbing.\n\nThere a
 re beaches nearby so consider bringing a towel to leave in the car (temps 
 allowing).\n\nWHAT TO BRING\n\n 	Climbing harness*\n 	Climbing helmet*\n 	
 Belay device + one locking carabiner*\n 	Climbing shoes*\n 	2L of water\n 
 	Lunch\, snacks\n 	Medication\, if needed\n 	Insect repellant (Make sure s
 omeone in your car has some) - UNIQUE TO ELANORA\n 	Sunscreen\n 	A backpac
 k\n 	Wind breaker or jumper (Just in case)\n 	$5-10 for your driver - toll
 s\, petrol\, their time\n\n* Asterisked items can be borrowed from the Gea
 r Cupboard on Thursdays\, remember to bring cash for a deposit\n\nThe trip
  leaders will be bringing personal gear as well as climbing ropes\, a Firs
 t-Aid Kit and an emergency locator beacon.\n\nIn the comment box please te
 ll us: what skill do you wish you had (non-climbing)\, your indoor/outdoor
  climbing experience\, what gear you need\, and if you’re willing to dri
 ve!\n\nThanks to Gabriel for the trip template\n\nP.S. If there's anything
  you want to learn or get out of the day\, either put it in the comment bo
 x or send me a message/talk to me on the day
CATEGORIES:Climbing,Outdoor Climbing
LOCATION:https://maps.app.goo.gl/ggorUwMWrhcZKGUK6
END:VEVENT
BEGIN:VTIMEZONE
TZID:Australia/Sydney
X-LIC-LOCATION:Australia/Sydney
BEGIN:DAYLIGHT
DTSTART:20231001T030000
TZOFFSETFROM:+1000
TZOFFSETTO:+1100
TZNAME:AEDT
END:DAYLIGHT
END:VTIMEZONE
END:VCALENDAR