BEGIN:VCALENDAR
VERSION:2.0
PRODID:-//wp-events-plugin.com//7.2.3.1//EN
TZID:Australia/Sydney
X-WR-TIMEZONE:Australia/Sydney
BEGIN:VEVENT
UID:3626@unswoc.org
DTSTART;TZID=Australia/Sydney:20250814T203000
DTEND;TZID=Australia/Sydney:20250814T213000
DTSTAMP:20251117T040213Z
URL:https://unswoc.org/wordpress/events/egm-august-2025/
SUMMARY:EGM and Board Games Night - August 2025
DESCRIPTION:Hey Everyone!\n\n&nbsp\;\n\nDo you need something to do while t
 he ledge is closed next week?\n\nIf so\, come to our Thursday EGM and boar
 d games night at the Flodge!\n\n&nbsp\;\n\nFirst\, we will be having an Ex
 traordinary General Meeting to elect new Gear Officers!\n\nThe EGM will be
  held at 8:30pm.\n\n&nbsp\;\n\nThen\, once we have elected our new ear off
 icers we will be able to catch up over some intense board and card games.\
 n\nPlease feel free to bring and game that you want\, the more the merrier
 !\n\n&nbsp\;\n\nIf you are interested in being a Gear Officer for the club
 \, you can let us know in this form or send a message to one of the exec.\
 n\nIf you want to know more about the role or you have any questions\, you
  can read about it here or send a message to Rafferty O’Grady or Harry M
 eggs\, our current president and head gear officer.\n\n&nbsp\;\n\nHope to 
 see you there!
CATEGORIES:Social Event
LOCATION:https://www.google.com/maps?sca_esv=618282510bff2174&rlz=1C1GCEA_e
 nAU1030AU1030&output=search&q=flodge&source=lnms&fbs=AIIjpHxU7SXXniUZfeShr
 2fp4giZ1Y6MJ25_tmWITc7uy4KIetxLMeWi1u_d0OMRvkClUbaKftIbDTsCvcgQ9k2f2SfChCO
 RpJPFdw9SQa0J8nX-9tWd5UlO5cwQYRbCKS_xOHg11ccRSDC2CUr1GHIiNonZdq3MB32CMaXC3
 FqD9kwRG8c7_8SYkkZ14FYn3il6MXQevi46BVL0mSzRosI0cxQrU7mmYw&entry=mc&ved=1t:
 200715&ictx=111
END:VEVENT
BEGIN:VTIMEZONE
TZID:Australia/Sydney
X-LIC-LOCATION:Australia/Sydney
BEGIN:STANDARD
DTSTART:20250406T020000
TZOFFSETFROM:+1100
TZOFFSETTO:+1000
TZNAME:AEST
END:STANDARD
END:VTIMEZONE
END:VCALENDAR