BEGIN:VCALENDAR
VERSION:2.0
PRODID:-//wp-events-plugin.com//7.2.3.1//EN
TZID:Australia/Sydney
X-WR-TIMEZONE:Australia/Sydney
BEGIN:VEVENT
UID:2036@unswoc.org
DTSTART:20160723T220000Z
DTEND:20160724T070000Z
DTSTAMP:20160719T122454Z
URL:https://unswoc.org/wordpress/events/easy-like-sunday-mornings/
SUMMARY:Easy Like Sunday Mornings.
DESCRIPTION:Hey Team\,\n\nEasy day hike on the Jerusalem Bay Track\, north 
 of Sydney.\n\nhttp://www.wildwalks.com/bushwalking-and-hiking-in-nsw/ku-ri
 ng-gai-chase-national-park/jerusalem-bay-track-cowan-to-brooklyn.html\n\n1
 4km.\n\nA lovely day out in the sun.\nIndividual experiences may vary.\n\n
 The plan would be to catch a train to Cowan Sunday morning and then a trai
 n back in the afternoon from Brooklyn. Timings will depend on group size a
 nd fitness.\n\nYou will need to be fully self sufficient for food (lunch a
 nd snacks) \, bring 2 litres of water and sun protection.\nYou will also 
 need to pay for train tickets to Cowan and back to Sydney.\n\nSunday.\nMee
 ting time and place TBA depending on group size and timings.\n\n-Luke
CATEGORIES:Bushwalking
END:VEVENT
END:VCALENDAR