BEGIN:VCALENDAR
VERSION:2.0
PRODID:-//wp-events-plugin.com//7.2.3.1//EN
TZID:Australia/Sydney
X-WR-TIMEZONE:Australia/Sydney
BEGIN:VEVENT
UID:2630@unswoc.org
DTSTART;TZID=Australia/Sydney;VALUE=DATE:20200409
DTEND;TZID=Australia/Sydney;VALUE=DATE:20200414
DTSTAMP:20200316T022924Z
URL:https://unswoc.org/wordpress/events/easter-white-water-nymboida-river/
SUMMARY:Easter White Water - Nymboida River
DESCRIPTION:Only Sign up if you can Paddle Class 3 White Water\, please.\n\
 nDont bother with the crowds at Araps! Come up north and paddle! No real p
 lans other than to go north to Platapus Flat and use this as a base camp f
 or the following days.\n\nCome along if you can paddle in class 3 White wa
 ter there are a few really nice sections and water isnt too cold! Good cha
 nce to get a whole bunch of paddling under your belt!\n\nregarding the vir
 usIts its not that busy over easter so will go ahead as long as there are 
 no travel bans in place.\n\n&nbsp\;\n\n&nbsp\;
ATTACH;FMTTYPE=image/jpeg:https://unswoc.org/wordpress/wp-content/uploads/
 2020/03/IMG_2900_1.jpg
END:VEVENT
BEGIN:VTIMEZONE
TZID:Australia/Sydney
X-LIC-LOCATION:Australia/Sydney
BEGIN:STANDARD
DTSTART:20200405T020000
TZOFFSETFROM:+1100
TZOFFSETTO:+1000
TZNAME:AEST
END:STANDARD
END:VTIMEZONE
END:VCALENDAR