BEGIN:VCALENDAR
VERSION:2.0
PRODID:-//wp-events-plugin.com//7.2.3.1//EN
TZID:Australia/Sydney
X-WR-TIMEZONE:Australia/Sydney
BEGIN:VEVENT
UID:2878@unswoc.org
DTSTART;TZID=Australia/Sydney;VALUE=DATE:20180331
DTEND;TZID=Australia/Sydney;VALUE=DATE:20180401
DTSTAMP:20210305T022400Z
URL:https://unswoc.org/wordpress/events/easter-weekend-climbing-trip/
SUMMARY:Easter Weekend Climbing Trip
DESCRIPTION:\n\nOn Saturday Ben and I (Jenny) will be running an outdoor cl
 imbing trip to Thompson's point at Nowra :)\n\nAll welcome but please let 
 us know your climbing experience in the comments and whether you have a ca
 r with spots to get there.\n\nYou will need:\n\n 	Helmet\n 	Harness\n 	Cli
 mbing shoes\n 	Safety sling and locking carabiner for cleaning routes\n 	A
 TC and locking carabiner for belaying\n 	Food/water - lots of water it'll 
 be hot!\n 	Sunscreen\n 	Backpack for the above items\n
CATEGORIES:Outdoor Climbing
END:VEVENT
BEGIN:VTIMEZONE
TZID:Australia/Sydney
X-LIC-LOCATION:Australia/Sydney
BEGIN:DAYLIGHT
DTSTART:20171001T030000
TZOFFSETFROM:+1000
TZOFFSETTO:+1100
TZNAME:AEDT
END:DAYLIGHT
END:VTIMEZONE
END:VCALENDAR