BEGIN:VCALENDAR
VERSION:2.0
PRODID:-//wp-events-plugin.com//7.2.3.1//EN
TZID:Australia/Sydney
X-WR-TIMEZONE:Australia/Sydney
BEGIN:VEVENT
UID:709@unswoc.org
DTSTART;VALUE=DATE:20150314
DTEND;VALUE=DATE:20150315
DTSTAMP:20150309T084236Z
URL:https://unswoc.org/wordpress/events/du-faur-aka-lets-get-lilo-licious/
SUMMARY:BEGINNERS CANYON: Du Faur - AKA - Let's get Lilo-licious.
DESCRIPTION:Hola Bandolas!\n\nCanyoning - for those who are not in the know
  - is one of the most enjoyable activities you can do in the Blue Mountain
 s. Even better when you can do it while floating around on a pool toy (or 
 Lilo).\n\nWe'll be heading to Du Faur Canyon\, a relaxed Canyon with long 
 sections of water\, perfect for floating down on a Lilo.\n\n&nbsp\;\n\nWha
 t to bring:\n\nYou'll need a wetsuit - while the club has wetsuits\, due t
 o the crowd at Boree log\, there is no guarantee that there will be enough
  to go around. So if you have one\, bring it\, if you don't ask your frien
 ds!\n\nIf you are the kind of person who really feels the cold\, consider 
 bringing some thermals too\, the stripier the better.\n\nSunscreen - your 
 skin will be audibly crackling on the walk in and out if you forget this\n
 \nWater - 3L is a good amount for a day in the wilderness. You can drink c
 anyon water (I've done it and survived)\, but it isn't advised\, particula
 rly for popular canyons.\n\nFood - you don't want to be hungry right? Lunc
 h and some snacks. You'll use a lot of energy paddling in cold water for a
  day\, so make sure you bring plenty.\n\n&nbsp\;\n\nPlan of attack:\n\nThe
  Canyon is fairly close to the campground\, but we will need a small car s
 huttle to the Mt Wilson Fire station. We'll be aiming to leave around 8:30
 -9am. We should make it back well before it gets dark.\n\n&nbsp\;\n\nAny q
 uestions\, feel free to get in touch via Facebook.\n\nCheers\, Samuel\n\n&
 nbsp\;
ATTACH;FMTTYPE=image/jpeg:https://unswoc.org/wordpress/wp-content/uploads/
 2015/03/Du-Faur.jpg
CATEGORIES:Canyoning
LOCATION:Mt Wilson Fire Station\, 47 The Avenue\, Mt Wilson\, NSW\, 2786\, 
 Australia
GEO:-33.505424;150.367310
X-APPLE-STRUCTURED-LOCATION;VALUE=URI;X-ADDRESS=47 The Avenue\, Mt Wilson\,
  NSW\, 2786\, Australia;X-APPLE-RADIUS=100;X-TITLE=Mt Wilson Fire Station:
 geo:-33.505424,150.367310
END:VEVENT
END:VCALENDAR