BEGIN:VCALENDAR
VERSION:2.0
PRODID:-//wp-events-plugin.com//7.2.3.1//EN
TZID:Australia/Sydney
X-WR-TIMEZONE:Australia/Sydney
BEGIN:VEVENT
UID:494@unswoc.org
DTSTART:20140704T203000Z
DTEND:20140706T083000Z
DTSTAMP:20140630T184040Z
URL:https://unswoc.org/wordpress/events/dry-beginner-intermediate-canyonin
 g-newnes-plateau/
SUMMARY:'Dry' Beginner / Intermediate Canyoning\, Newnes Plateau
DESCRIPTION:Hi guys\,\n\nWe'll be heading up to Newnes Plateau this weekend
  to do a few easy and (mostly) dry beginner canyons. Trips will be running
  both days so you can come for a day trip or camp overnight\, although you
  will need to organise your own transportation. You don't need to have abs
 eiling or canyoning experience but you will need to ensure you have the fo
 llow:\n\n	daypack\, drybag\n	helmet\, harness\, abseil device\, few carabi
 ners\, safety sling\, small prussik\n	rain jacket\, thermals\, emergency b
 lanket\, beanie\, whistle\, headlight torch\, spare batteries\n	food and w
 ater\n	camping equipment (tent\, sleeping bag and mat\, mess kit\, etc)\n\
 nNumbers will be capped around 8 people. Any questions\, just text me (Kat
 ie) on 0447541639.
CATEGORIES:Canyoning
END:VEVENT
END:VCALENDAR