BEGIN:VCALENDAR
VERSION:2.0
PRODID:-//wp-events-plugin.com//7.2.3.1//EN
TZID:Australia/Sydney
X-WR-TIMEZONE:Australia/Sydney
BEGIN:VEVENT
UID:2181@unswoc.org
DTSTART:20171006T200000Z
DTEND:20171008T110000Z
DTSTAMP:20171004T121043Z
URL:https://unswoc.org/wordpress/events/drum-cave-ii/
SUMMARY:Drum Cave\, take II
DESCRIPTION:Head up Saturday 7th to do Drum Cave on Sunday 8th. Home by Sun
 day night.
CATEGORIES:Caving
END:VEVENT
END:VCALENDAR