BEGIN:VCALENDAR
VERSION:2.0
PRODID:-//wp-events-plugin.com//7.2.3.1//EN
TZID:Australia/Sydney
X-WR-TIMEZONE:Australia/Sydney
BEGIN:VEVENT
UID:478@unswoc.org
DTSTART:20140509T100000Z
DTEND:20140509T160000Z
DTSTAMP:20140428T225319Z
URL:https://unswoc.org/wordpress/events/drum-cave-advanced/
SUMMARY:Drum Cave - Advanced
DESCRIPTION:This cave is for experienced cavers with ascending experience o
 nly. I will be teaching rigging and we will attempt to do the climbing ext
 ension.\n\nFacebook message me before you jump on the trip here - James.
CATEGORIES:Caving
LOCATION:\, \, 
X-APPLE-STRUCTURED-LOCATION;VALUE=URI;X-ADDRESS=\, ;X-APPLE-RADIUS=100;X-TI
 TLE=:geo:0,0
END:VEVENT
END:VCALENDAR