BEGIN:VCALENDAR
VERSION:2.0
PRODID:-//wp-events-plugin.com//7.2.3.1//EN
TZID:Australia/Sydney
X-WR-TIMEZONE:Australia/Sydney
BEGIN:VEVENT
UID:3701@unswoc.org
DTSTART;TZID=Australia/Sydney:20251122T073000
DTEND;TZID=Australia/Sydney:20251122T173000
DTSTAMP:20251119T121755Z
URL:https://unswoc.org/wordpress/events/draft-beginner-intermediate-sport-
 climbing-thompsons-point/
SUMMARY:[POSTPONED] Beginner / Intermediate Sport Climbing - Thompson's Poi
 nt
DESCRIPTION:Hey cool kids! Raine\, Noah and I (Oscar) are planning on runn
 ing a sport climbing trip down to Nowra to Thompson's Point crag on Sat 22
 nd. There is large variety of climbs available starting from the mid teens
 \, as such it is expected you at least have a little indoor climbing exper
 ience before signing up for the trip.\n\n&nbsp\;\n\nIt will be an earlier 
 start\, leaving Sydney at 7:30 am to get down there at ~10 am and make the
  most of the day. We will start off at the Descent Gully Walls where we wi
 ll set up some top ropes before heading down towards Orca and Betty Blue a
 rea where there are a couple good climbs to learn/practice lead climbing.W
 e will try to be back at the car's by 5:30 pm to drive back to Sydney. Hid
 den question: in your comment tell us your least favourite form of public 
 transport.\n\n&nbsp\;\n\nWhat to Bring:\n\n 	Water (minimum 2L)\n 	Food (l
 unch and snacks)\n 	Climbing shoes * + chalk (optional but helpful)\n 	Har
 ness *\n 	Helmet *\n 	Belay device (atc or gri gri) *\n 	Locking carabiner
  *\n 	Backpack to carry your gear\n 	Walking shoes for approach\n\n&nbsp\;
 \n\n* gear that can be borrowed from gear cupboard on Thursdays\, if you n
 eed gear but can't make it let us know and we'll pick it up for you.\n\n&n
 bsp\;\n\nIn your comment below let us know your climbing experience\, whet
 her you have a car (and how many spots) and answer the hidden question.\n\
 nOnce you've been accepted onto the trip we will be creating a messenger g
 roup chat to organise carpooling so please make sure that your facebook pr
 ofile is linked on your UNSWOC account.\n\nIf you have any questions feel 
 free to message me on messenger.
CATEGORIES:Climbing,Outdoor Climbing
LOCATION:https://maps.app.goo.gl/pf544zuSeDyUBJAc6
END:VEVENT
BEGIN:VTIMEZONE
TZID:Australia/Sydney
X-LIC-LOCATION:Australia/Sydney
BEGIN:DAYLIGHT
DTSTART:20251005T030000
TZOFFSETFROM:+1000
TZOFFSETTO:+1100
TZNAME:AEDT
END:DAYLIGHT
END:VTIMEZONE
END:VCALENDAR