BEGIN:VCALENDAR
VERSION:2.0
PRODID:-//wp-events-plugin.com//7.2.3.1//EN
TZID:Australia/Sydney
X-WR-TIMEZONE:Australia/Sydney
BEGIN:VEVENT
UID:2201@unswoc.org
DTSTART:20171028T230000Z
DTEND:20171029T060000Z
DTSTAMP:20171025T041500Z
URL:https://unswoc.org/wordpress/events/donkey-mountain-sundae-shit-time/
SUMMARY:Donkey Mountain Sundae - you won't have a shit time here
DESCRIPTION:\n\nNOTE: Currently\, we are restricted to only one vehicle. If
  you have a car\, and are interested in coming along\, then please message
  either Nadav or myself.\n\n\n\nSunday of Boree Log\; a time of much regre
 t at your abilities to gauge how many standard drinks are in the Punch of 
 Punishment. But fear not! Nadav and I are your salvation\, for we are lead
 ing a expedition of curious hikers to Donkey Mountain. This isn't your typ
 ical hike\; nay\, we are the heroic Theseus\, venturing deep into our labr
 ynth of mountainous rock features in search for the Minotaur/Donkey. But w
 e're not preoccupied with slaying mythical creatures\; we're smashing out 
 some good rock scrambling and satisfying general explorative curiosity\, a
 lthough that being said\, hopefully we aren't visited by the mythical Blue
  Mountains Black Panther ...\n\nANYWAY\, I digress. Basically\, we are goi
 ng to leave the campsite Sunday morning by 10am (ish) and drive to close t
 o the mountain. Then\, we will be spending the rest of the day navigating 
 around and simply enjoying the outdoors\, eventually heading straight back
  to Sydney by 5pm.\n\nFor those who are keen\, please bring at least the f
 ollowing hiking gear:\n\n	A small day pack\n	At least 1 litre of Water\n	G
 ood hiking shoes (no thongs)\n	Snacks\n\nFeel free to message Nadav or mys
 elf with any queries\, and we'll help you out.
ATTACH;FMTTYPE=image/jpeg:https://unswoc.org/wordpress/wp-content/uploads/
 2017/10/donkey.jpg
CATEGORIES:Boree Log,Bushwalking,Hectic Hiking
END:VEVENT
END:VCALENDAR