BEGIN:VCALENDAR
VERSION:2.0
PRODID:-//wp-events-plugin.com//7.2.3.1//EN
TZID:Australia/Sydney
X-WR-TIMEZONE:Australia/Sydney
BEGIN:VEVENT
UID:2202@unswoc.org
DTSTART:20171027T220000Z
DTEND:20171028T060000Z
DTSTAMP:20171023T073749Z
URL:https://unswoc.org/wordpress/events/donkey-mountain-saturday-boree-log
 /
SUMMARY:Donkey Mountain Saturday -Boree Log
DESCRIPTION:\n\nCome along for  bit of a trot up Donkey Mountain\, there i
 s a trip going Sunday too\, but lets not beat around the bush (actually th
 ere will be a little of that) this is a place much better enjoyed when NOT
  hungover!  Please let me know if you have a car\, at this stage there ar
 e 5 spaces in my car.\n\nWhat does it involve?\n\n-Walk up big hill\, expl
 ore\, walk down big hill\n\n-Bring lunch and water (eat lunch in speccy ph
 oto spot as pictured)\n\n-Wear stretchy/loose clothing\, a bit of a scramb
 le is required for bits\n\nNo actual climbing or gear or skills are involv
 ed :-)\n\nIf you want to check it out\, Sam has already sold it far better
  than I can here:\n\nhttp://unswoc.org/wordpress/2015/11/03/ass-donkey-mou
 ntain/\n\n(Cover Photo credit to David Noble ....yep from SUBW\, but he's 
 a good guy :-) )\n\n&nbsp\;
ATTACH;FMTTYPE=image/jpeg:https://unswoc.org/wordpress/wp-content/uploads/
 2017/10/Donkey-Mountain.jpg
END:VEVENT
END:VCALENDAR