BEGIN:VCALENDAR
VERSION:2.0
PRODID:-//wp-events-plugin.com//7.2.3.1//EN
TZID:Australia/Sydney
X-WR-TIMEZONE:Australia/Sydney
BEGIN:VEVENT
UID:3092@unswoc.org
DTSTART;VALUE=DATE:20221015
DTEND;VALUE=DATE:20221016
DTSTAMP:20221008T104311Z
URL:https://unswoc.org/wordpress/events/donkey-mountain-saturday-boree-log
 -2/
SUMMARY:SATURDAY BL - Donkey Mountain - Hike
DESCRIPTION:\n\nCome along for bit of a trot up Donkey Mountain\, there is 
 a trip going Sunday too\, but lets not beat around the bush (actually ther
 e will be a little of that) this is a place much better enjoyed when NOT h
 ungover!  Please let me know if you have a car\, at this stage there are 
 3 spaces in my car.\n\nWhat does it involve?\n\n-Walk up big hill\, explor
 e\, walk down big hill\n\n-Bring lunch and water (eat lunch in speccy phot
 o spot as pictured)\n\n-Wear stretchy/loose clothing\, a bit of a scramble
  is required for bits\n\nNo actual climbing or gear or skills are involved
  :-)\n\nIf you want to check it out\, Here are is an incredible trip repor
 t to have a look at by Sam May:\n\nhttp://unswoc.org/wordpress/2015/11/03/
 ass-donkey-mountain/\n\n&nbsp\;\n\nWhat to bring:\n\n 	Closed toe shoes (s
 neakers / hiking boots recommended)\n 	Hiking appropriate clothes (send me
  a message if you need more direction than that and I will help you out).\
 n 	Lunch and snacks\n 	2L water\n 	Hat\n 	Bag to carry your stuff\n 	Maybe
  a raincoat in case the weather turns\n 	Good spirits.\n\nComment about yo
 ur transportation situation and your favourite hike or where you would mos
 t like to hike.\n\nYou need to be approved for the main Boree Log event to
  attend these trips. Please sign up for only ONE trip per day. If you get 
 rejected you can then sign up for another trip\, this just makes it easier
  for volunteer trip leaders. Please be aware that as the weather is unpred
 ictable\, trip leaders may need to alter trips accordingly
ATTACH;FMTTYPE=image/jpeg:https://unswoc.org/wordpress/wp-content/uploads/
 2017/10/Donkey-Mountain.jpg
CATEGORIES:Boree Log,Bushwalking,Hectic Hiking
END:VEVENT
END:VCALENDAR