BEGIN:VCALENDAR
VERSION:2.0
PRODID:-//wp-events-plugin.com//7.2.3.1//EN
TZID:Australia/Sydney
X-WR-TIMEZONE:Australia/Sydney
BEGIN:VEVENT
UID:2450@unswoc.org
DTSTART;TZID=Australia/Sydney;VALUE=DATE:20190810
DTEND;TZID=Australia/Sydney;VALUE=DATE:20190812
DTSTAMP:20190805T134923Z
URL:https://unswoc.org/wordpress/events/dione-dell-intermediate-canyoning/
SUMMARY:Dione Dell - Intermediate Canyoning
DESCRIPTION:This weekend Brendon and I (Ash Brennan) will be leading a cany
 oning trip to Dione Dell out at Kanangra. For those who haven't been befor
 e\, Kanangra Boyd National Park is a stunning area ~2hrs drive past the Bl
 ue Mountains. It'll be a great day\, and mostly dry too - no need for wets
 uits. This is an intermediate canyon so if you're keen and you've done a c
 ouple of canyons before\, then you should come along!\n\nWe are running th
 is trip on Sunday\, but because Kanangra is such a drive we'll be heading 
 out on Saturday evening and camping so that we can get an early start on S
 unday.\n\n&nbsp\;\n\nFor this trip you need to\n\n1. Be fit\, it’s a lon
 g hike.\n\n2. Know how to abseil.\n\n&nbsp\;\n\nFor gear you will need\n\n
 1. Harness / helmet / ATC / 2 locking biners / safety sling (all can be bo
 rrowed from the club)\n\n2. Emergency blanket (can be purchased from the c
 lub)\n\n3. A backpack that can get wet\, with a dry-bag inside that should
 n’t get wet. Inside the dry bag you need thermals/warm clothes\, a torch
 \, and a small raincoat.\n\n4. Wear shoes with good grip\, wollen socks\, 
 bring 2 L of water and food\, and any personal medicines you need.\n\nWe w
 ill carpool to get there. Message me or Brendon with your experience if yo
 u're keen.\n\n&nbsp\;\n\nThanks Maria for the template
CATEGORIES:Canyoning
END:VEVENT
BEGIN:VTIMEZONE
TZID:Australia/Sydney
X-LIC-LOCATION:Australia/Sydney
BEGIN:STANDARD
DTSTART:20190407T020000
TZOFFSETFROM:+1100
TZOFFSETTO:+1000
TZNAME:AEST
END:STANDARD
END:VTIMEZONE
END:VCALENDAR