BEGIN:VCALENDAR
VERSION:2.0
PRODID:-//wp-events-plugin.com//7.2.3.1//EN
TZID:Australia/Sydney
X-WR-TIMEZONE:Australia/Sydney
BEGIN:VEVENT
UID:2542@unswoc.org
DTSTART;TZID=Australia/Sydney:20191018T170000
DTEND;TZID=Australia/Sydney:20191019T200000
DTSTAMP:20191014T021203Z
URL:https://unswoc.org/wordpress/events/dione-dell-canyon/
SUMMARY:Dione Dell Canyon
DESCRIPTION:~~Intermediate Canyon Trip~~\n\nDion and I will be running *Dio
 ne Dell* on Saturday 19th of October (most likely with camping the night b
 efore in Kanangara).\n\nIt's a great canyon with spectacular views\, a few
  abseils and no swimming (but some wading!)\, and a steep hike out.\n\n\nI
 t is an intermediate trip\, so some canyoning/caving/lead climbing experie
 nce is recommended\, but we also have one spot available for a keen beginn
 er canyoner!\n\n
ATTACH;FMTTYPE=image/jpeg:https://unswoc.org/wordpress/wp-content/uploads/
 2019/10/72219941_2707361095961374_2606580239937044480_n.jpg
CATEGORIES:Canyoning
END:VEVENT
BEGIN:VTIMEZONE
TZID:Australia/Sydney
X-LIC-LOCATION:Australia/Sydney
BEGIN:DAYLIGHT
DTSTART:20191006T030000
TZOFFSETFROM:+1000
TZOFFSETTO:+1100
TZNAME:AEDT
END:DAYLIGHT
END:VTIMEZONE
END:VCALENDAR