BEGIN:VCALENDAR
VERSION:2.0
PRODID:-//wp-events-plugin.com//7.2.3.1//EN
TZID:Australia/Sydney
X-WR-TIMEZONE:Australia/Sydney
BEGIN:VEVENT
UID:2056@unswoc.org
DTSTART;VALUE=DATE:20160902
DTEND;VALUE=DATE:20160903
DTSTAMP:20160828T101127Z
URL:https://unswoc.org/wordpress/events/dinosaurs-claustral-canyon/
SUMMARY:Dinosaurs in Claustral Canyon
DESCRIPTION:Are you up for some glow worms\, tight constrictions\, abseils 
 down hidden waterfalls\, running from dinosaurs\, sore legs\, a proper app
 reciation for warm sunlight and an overall awesome Friday? If so\, perfect
 ! Because Luke and I are running a trip with that very description!\n\nPro
 vided it doesn't Ranon us we will be heading up to the mountains this Frid
 ay for an adventure! The plan is to take the Ranon entrance to Claustral c
 anyon\, Slot in that Nat Geo shot and head up Thunder canyon in reverse\, 
 over the Camel's hump and home.\n\nYou sorta need to already know some of 
 the ropes for this trip\, so hence why it is intermediate only. If I haven
 't canyoned with you before\, please add in the comments section your prev
 ious canyoning experience. It will be a long day (12ish hours) so we might
  camp nearby in the mountains Thursday night to get that early start.\n\nS
 ome reminders of very important things to pack:\n\n\n	Harness\n	Safeties +
  locking biners\n	Helmet\n	Descender\n	Warmest canyoning gear you own (it'
 s not canyoning season yet\, so it will be COLD!)\n	Headtorch \n	Space bla
 nket\n	Drybag/s\n	Lunch\n	Dry clothes\n\n&nbsp\;\nSome other important thi
 ngs to pack:\n\n\n	A treat to share i.e. Chocolate/tea/cake\n	Your brain (
 we don't want any accidents)\n	Dinosaur identification guidebook\n	Waterpr
 oof Camera\n\n&nbsp\;\nThings we have sorted out:\n\n\n	Ropes\n	First Aid 
 Kit\n	PLB\n	Maps\n\n&nbsp\;\nAlso\, spots are limited to 5 only (1 car) if
  you have a car to drive us there you will get priority on this trip *hint
  hint* (you won't be that weak link we feed to the T-Rex)\n\n*Note: You ca
 n borrow gear from the gear cupboard Wednesday night\, remember to bring y
 our $10 deposit!
ATTACH;FMTTYPE=image/jpeg:https://unswoc.org/wordpress/wp-content/uploads/
 2016/08/12063295_1047300955310129_6668648316240016855_n.jpg
CATEGORIES:Canyoning
END:VEVENT
END:VCALENDAR