BEGIN:VCALENDAR
VERSION:2.0
PRODID:-//wp-events-plugin.com//7.2.3.1//EN
TZID:Australia/Sydney
X-WR-TIMEZONE:Australia/Sydney
BEGIN:VEVENT
UID:561@unswoc.org
DTSTART:20140914T003000Z
DTEND:20140914T030000Z
DTSTAMP:20140912T154114Z
URL:https://unswoc.org/wordpress/events/diamond-bay-climbing/
SUMMARY:Diamond Bay climbing
DESCRIPTION:
LOCATION:Diamond Bay \, Diamond Bay Rd\, Vaucluse NSW 2030\, Australien\, S
 ydney\, Australia
GEO:-33.861073;151.280106
X-APPLE-STRUCTURED-LOCATION;VALUE=URI;X-ADDRESS=Diamond Bay Rd\, Vaucluse N
 SW 2030\, Australien\, Sydney\, Australia;X-APPLE-RADIUS=100;X-TITLE=Diamo
 nd Bay :geo:-33.861073,151.280106
END:VEVENT
END:VCALENDAR