BEGIN:VCALENDAR
VERSION:2.0
PRODID:-//wp-events-plugin.com//7.2.3.1//EN
TZID:Australia/Sydney
X-WR-TIMEZONE:Australia/Sydney
BEGIN:VEVENT
UID:1480@unswoc.org
DTSTART;VALUE=DATE:20151031
DTEND;VALUE=DATE:20151101
DTSTAMP:20151023T061853Z
URL:https://unswoc.org/wordpress/events/devils-pinch-canyon-boree-log-satu
 rday/
SUMMARY:Devils Pinch Canyon - Boree Log Saturday
DESCRIPTION:EVENT DETAILS UPDATED 23/OCT !!!\n\nDevils Pinch is a good qual
 ity canyon near the Newnes Campground. Track notes can be found on OzUltim
 ate or in Jamieson's guidebook. We start from the campsite and follow the
  Pipeline track up the big hill (no need to drive). A few abseils\, some t
 ricky. Grade 4 or 5.\n\nThis is an intermediate level trip\, suitable for 
 people who are confident at abseiling and have prior canyoning experience.
  When signing up\, please leave a comment stating your canyoning experienc
 e (or you can find me on facebook and send me a message).\n\nBring all the
  usual canyoning gear. This includes:\n\n	thermals (or a shorty wetsuit if
  you are willing to carry extra weight\, but stay warmer)\n	an extra layer
 \, in case you get cold\n	suitable shoes (enclosed\, grippy\, can get wet)
 \n	lunch and snacks\n	2L to 3L of water\n	head torch\n	dry bag\n	harness\n
 	helmet\n	descender and HMS carabiner\n	personal safety (sling and locking
  carabiner)\n	backpack to store everything\n\nOther stuff that is worth b
 ringing along if you have spare space in your backpack:\n\n	wine\n	cheese\
 n	chocolate\n	cake\n	camera\n	personal first aid kit\n	prussiks and self r
 escue gear (if you know how to use them)\n\nI will organise all the group 
 equipment (ropes\, first ad kit\, emergency beacon\, maps\, self rescue ge
 ar\, etc).\n\nFeel free to ask me any questions :)\n\n&nbsp\;
CATEGORIES:Boree Log,Canyoning
LOCATION:Newnes Campground\, Wolgan Road\, Newnes\, NSW\, Australia
GEO:-33.174751;150.237030
X-APPLE-STRUCTURED-LOCATION;VALUE=URI;X-ADDRESS=Wolgan Road\, Newnes\, NSW\
 , Australia;X-APPLE-RADIUS=100;X-TITLE=Newnes Campground:geo:-33.174751,15
 0.237030
END:VEVENT
END:VCALENDAR