BEGIN:VCALENDAR
VERSION:2.0
PRODID:-//wp-events-plugin.com//7.2.3.1//EN
TZID:Australia/Sydney
X-WR-TIMEZONE:Australia/Sydney
BEGIN:VEVENT
UID:2401@unswoc.org
DTSTART;VALUE=DATE:20190414
DTEND;VALUE=DATE:20190415
DTSTAMP:20190401T035710Z
URL:https://unswoc.org/wordpress/events/devils-pinch-canyon-14-04-2019/
SUMMARY:Devil's Pinch Canyon 14/04/2019
DESCRIPTION:Hey kids\,\n\nMe\, Brendon and Stephen are running Devil's Pinc
 h canyon on Sunday the 14th of April. We'll be spending the Saturday night
  before at Newnes campground with Izzy and Mira's group so it should a lot
  of fun.\n\nThe canyon itself is a long day\, with a long walk uphill into
  a pretty spectacular canyon. It's an intermediate/beginners trip\, so you
 'll need to be pretty fit.\n\n***You must be able to swim***\n\nIf you hav
 e any questions hit me up: dionrussell94@gmail.com\n\nA list of gear is be
 low (things with a * can be borrowed from the club on gear night:\n\n*Wets
 uit\n\n*Harness\n\n*Helmet\n\n*2 x Carabiner\n\n*Abseiling device\n\n*Slin
 g\n\n*Tent (or find someone to share with)\n\n*Sleeping Bag\n\n*Sleeping M
 at\n\nBackpack\n\nAt least 2L water during the day and more to be drunk at
  camp\n\nDrybag (or find someone to share with)\n\nDinner\, Breakfast\, Lu
 nch and Snacks\n\nPetrol Money (probably $20)/ Car\n\nEnclosed shoes such 
 as old runners\n\nWollen socks\n\nChange of shoes and socks (so you don't 
 have gross feet on the drive home)\n\nWarm clothes for the night before (s
 hould get under 10oC at night)\n\nHat\, sunscreen and sunglasses\n\nMaybe 
 some cheeky beers or drink of choice\n\nToothbrush and toothpaste\n\n&nbsp
 \;\n\nKind regards\,\n\nDion Russell.\n\n&nbsp\;
ATTACH;FMTTYPE=image/jpeg:https://unswoc.org/wordpress/wp-content/uploads/
 2015/03/50422.jpg
CATEGORIES:Canyoning
END:VEVENT
END:VCALENDAR