BEGIN:VCALENDAR
VERSION:2.0
PRODID:-//wp-events-plugin.com//7.2.3.1//EN
TZID:Australia/Sydney
X-WR-TIMEZONE:Australia/Sydney
BEGIN:VEVENT
UID:2188@unswoc.org
DTSTART;VALUE=DATE:20171029
DTEND;VALUE=DATE:20171030
DTSTAMP:20171017T082118Z
URL:https://unswoc.org/wordpress/events/devil-canyon-sunday/
SUMMARY:A devil of a canyon! (Sunday)
DESCRIPTION:---you must be approved for Boree log to attend this trip---\n\
 nHey explorers!\n\nDamon and me are leading a trip on Sunday through devil
 s pinch canyon\, a spectacular canyon in the Wolgan valley!\n\n\n\nSick ri
 ght?! More info and pics can be found here http://ozultimate.com/canyoning
 /track_notes/devils_pinch.htm.\n\nThis is a whole day adventure where we s
 cramble\, wade and do multiple abseils.\n\nSo you need to be fit and rope 
 skills are preferred\, but we can take a few beginners along. Please fill 
 out the form when you sign up and comment with your experience (if you don
 't have rope skills\, just comment what other outdoor activities you have 
 done)!\n\nWhat you need:\n\n	harness*\n	helmet*\n	safety + biner*\n	atc + 
 biner*\n	prussik*\n	backpack that can get wet\n	headtorch\n	drybag (this i
 s important for spare clothes and your food! I strongly recommend to buy\,
  e.g. at anaconda https://www.anacondastores.com/camping-hiking/packs-bags
 /dry-bags-storage/sea-to-summit-dry-sack/p/BP90028599001\, these come in h
 andy on almost any outdoor trip)\n	runners that may get trashed\n	thermals
 \n	lunch and snacks!\n	at least 1.5l of water\n	adventure spirit and heaps
  of good mood!\n	wetsuits* -- this is optional as this is a relatively dry
  canyon (I probably won't wear one)\n\n*you can get this from the club\n\n
 Get keen and see ya there!\n\nCheers\,\n\nSteffi and Damon\n\n&nbsp\;
CATEGORIES:Canyoning
END:VEVENT
END:VCALENDAR