BEGIN:VCALENDAR
VERSION:2.0
PRODID:-//wp-events-plugin.com//7.2.3.1//EN
TZID:Australia/Sydney
X-WR-TIMEZONE:Australia/Sydney
BEGIN:VEVENT
UID:2045@unswoc.org
DTSTART:20160805T070000Z
DTEND:20160807T090000Z
DTSTAMP:20160805T040027Z
URL:https://unswoc.org/wordpress/events/deep-dirty-caving-wee-jasper/
SUMMARY:Let's get deep and dirty: Caving at Wee Jasper
DESCRIPTION:Caving at Wee Jasper this weekend.
CATEGORIES:Caving
END:VEVENT
END:VCALENDAR