BEGIN:VCALENDAR
VERSION:2.0
PRODID:-//wp-events-plugin.com//7.2.3.1//EN
TZID:Australia/Sydney
X-WR-TIMEZONE:Australia/Sydney
BEGIN:VEVENT
UID:1997@unswoc.org
DTSTART:20160329T203000Z
DTEND:20160329T211500Z
DTSTAMP:20160329T001905Z
URL:https://unswoc.org/wordpress/events/death-stairs/
SUMMARY:Death Stairs
DESCRIPTION:Come join me at the Coogee Death Stairs for some quad-burning f
 un. Whether you choose to walk or jog the stairs you'll be crawling by the
  end.\n\nWe meet at the top of the stairs (map here) and aim for 30-45 min
 utes of fun.
CATEGORIES:Training
END:VEVENT
END:VCALENDAR