BEGIN:VCALENDAR
VERSION:2.0
PRODID:-//wp-events-plugin.com//7.2.3.1//EN
TZID:Australia/Sydney
X-WR-TIMEZONE:Australia/Sydney
BEGIN:VEVENT
UID:2092@unswoc.org
DTSTART:20161101T200000Z
DTEND:20161101T210000Z
DTSTAMP:20161031T231351Z
URL:https://unswoc.org/wordpress/events/death-stairs-revival/
SUMMARY:Death stairs - the revival
DESCRIPTION:Feeling the withdrawal? Need a another shot of pain (ahm gain)?
  Skipped leg day at the gym? Feel aweful ascending all those hills at bore
 e log?\n\nJoin me tomorrow (Wednesday) morning 7am at the top of the south
  Coogee stairs (https://www.google.com.au/maps/dir//-33.929321\,151.257413
 7/@-33.9293249\,151.2571509\,19z) to enjoy the morning sun and the build u
 p of all those leg muscles!
END:VEVENT
END:VCALENDAR