BEGIN:VCALENDAR
VERSION:2.0
PRODID:-//wp-events-plugin.com//7.2.3.1//EN
TZID:Australia/Sydney
X-WR-TIMEZONE:Australia/Sydney
BEGIN:VEVENT
UID:2035@unswoc.org
DTSTART:20160710T130000Z
DTEND:20160710T203000Z
DTSTAMP:20160710T064123Z
URL:https://unswoc.org/wordpress/events/death-stairs-5/
SUMMARY:Death Stairs
DESCRIPTION:Death Stairs - 40m elevation gain\, aim for 5-10 laps\, pricele
 ss endorphins.\n\nFind 'em here - on Denning/Cairo St\n\nGet on it.
END:VEVENT
END:VCALENDAR