BEGIN:VCALENDAR
VERSION:2.0
PRODID:-//wp-events-plugin.com//7.2.3.1//EN
TZID:Australia/Sydney
X-WR-TIMEZONE:Australia/Sydney
BEGIN:VEVENT
UID:2029@unswoc.org
DTSTART:20160606T203000Z
DTEND:20160606T213000Z
DTSTAMP:20160606T003159Z
URL:https://unswoc.org/wordpress/events/death-stairs-4/
SUMMARY:Death Stairs
DESCRIPTION:Death Stairs - 40m elevation gain\, aim for 5-10 laps\, pricele
 ss endorphins.\n\nFind 'em here - on Denning/Cairo St\n\nGet on it.
CATEGORIES:Training
END:VEVENT
END:VCALENDAR