BEGIN:VCALENDAR
VERSION:2.0
PRODID:-//wp-events-plugin.com//7.2.3.1//EN
TZID:Australia/Sydney
X-WR-TIMEZONE:Australia/Sydney
BEGIN:VEVENT
UID:2022@unswoc.org
DTSTART:20160524T203000Z
DTEND:20160524T223000Z
DTSTAMP:20160523T101127Z
URL:https://unswoc.org/wordpress/events/death-stairs-3/
SUMMARY:Death Stairs 2 - More Stairs\, More Death (figuratively)
DESCRIPTION:Death Stairs - 40m elevation gain\, aim for 5-10 laps\, pricele
 ss endorphins.\n\nFind 'em here - on Denning/Cairo St\n\nGet on it. Might
  have a couple of litres of Oak there to numb your pain (apologies to the 
 lactose intolerant)\n\n&nbsp\;\n\n
CATEGORIES:Training
END:VEVENT
END:VCALENDAR