BEGIN:VCALENDAR
VERSION:2.0
PRODID:-//wp-events-plugin.com//7.2.3.1//EN
TZID:Australia/Sydney
X-WR-TIMEZONE:Australia/Sydney
BEGIN:VEVENT
UID:1999@unswoc.org
DTSTART:20160405T203000Z
DTEND:20160405T211500Z
DTSTAMP:20160405T065219Z
URL:https://unswoc.org/wordpress/events/death-stairs-2/
SUMMARY:Death Stairs
DESCRIPTION:Come join me at the Coogee Death Stairs for some quad-burning f
 un. Whether you choose to walk or jog the stairs you’ll be crawling by t
 he end.\n\nWe meet at the top of the stairs (map here) and aim for 30-45 m
 inutes of fun.
ATTACH;FMTTYPE=image/jpeg:https://unswoc.org/wordpress/wp-content/uploads/
 2016/04/coogee-steps-mosaic-usp.jpg
CATEGORIES:Training
END:VEVENT
END:VCALENDAR