BEGIN:VCALENDAR
VERSION:2.0
PRODID:-//wp-events-plugin.com//7.2.3.1//EN
TZID:Australia/Sydney
X-WR-TIMEZONE:Australia/Sydney
BEGIN:VEVENT
UID:854@unswoc.org
DTSTART;VALUE=DATE:20150530
DTEND;VALUE=DATE:20150531
DTSTAMP:20150525T013010Z
URL:https://unswoc.org/wordpress/events/day-walk-heathcote-national-park-3
 0th-may/
SUMMARY:Day walk Heathcote National Park 30th may
DESCRIPTION:Hey guys\, so a nice and easy day walk from heathcote transtati
 on to waterfall train station through the heathcote national park. We will
  meet at hungry jacks central at 8am to train to the start of the track\n\
 n&nbsp\;\n\nAll are welcome!\n\nGear required:\n\nBackpack\n\n2 litres wat
 er\n\nlunch\, if you want to cook something up just ask i'll bring a camp 
 stove\n\nmoney for train\n\nshoes and clothes for walking 10km\n\nhat and 
 sunblock\n\n&nbsp\;\n\nAny questions message me on 0422951724\n\n&nbsp\;\n
 \nCheers\, Mark G.\n\n&nbsp\;
CATEGORIES:Bushwalking
END:VEVENT
END:VCALENDAR