BEGIN:VCALENDAR
VERSION:2.0
PRODID:-//wp-events-plugin.com//7.2.3.1//EN
TZID:Australia/Sydney
X-WR-TIMEZONE:Australia/Sydney
BEGIN:VEVENT
UID:3252@unswoc.org
DTSTART;TZID=Australia/Sydney;VALUE=DATE:20230429
DTEND;TZID=Australia/Sydney;VALUE=DATE:20230430
DTSTAMP:20230426T020507Z
URL:https://unswoc.org/wordpress/events/day-hike-staples-lookout-to-pindar
 -cave-brisbane-water-national-park/
SUMMARY:Day Hike – Staples Lookout to Pindar Cave (Brisbane Water Nationa
 l Park)
DESCRIPTION:Hey folks!\n\nOliver and I (Caity) are running an intermediate
  day hike this Saturday (29 April) in Brisbane Water National Park. Our pl
 an is to start at Staples Lookout &amp\; hike to Pindar Cave (and back). I
 t should be a fun hike with pretty views\, an amazing cave and a couple of
  waterfalls to swim at along the way.\n\nThis is a 20km “moderately chal
 lenging” hike\, so some hiking experience is necessary. However\, it is 
 a day hike with a well-marked track\, so you don’t need any experience w
 ith navigation or overnight hiking! 🙂\n\nFollow this link to check out 
 track notes/More Info\n\nAs this is not an overnight hike\, there should b
 e no need for sleeping bags\, tents etc. You will need the gear listed bel
 ow\, a comfortable backpack or hiking pack to carry everything in &amp\; a
 ppropriate shoes for the hike (sneakers or hiking boots). The track notes 
 recommend long pants and long sleeves.\n\nHope to see you then! Feel free 
 to message me or Oli if you have any questions\,\n\n— Caity and Oliver\n
 \n\n What to bring\n\n 	RAINCOAT – There has been a lot of rain here re
 cently\, so there’s a good chance you’ll want this\n 	Water – at lea
 st 2-3L is a safe bet\n 	Lunch/Snacks – Please bring enough food for a f
 ull day of hiking and snacks that you can eat on the go.\n 	Comfortable Sh
 oes/Boots and optimally thick non-cotton socks\n 	Warm jumper\n 	Breathabl
 e clothing (recommended long sleeves and long pants – both for sun prote
 ction and any potential bush-bashing)\n 	Insect repellant (if you have it)
  – we may have some fun with leeches\n 	Sunscreen/Hat (and extra sunscre
 en to reapply throughout the day)\n 	Swimmers &amp\; towel – if you feel
  up for it\, there should be a couple of swimming spots and I very much pl
 an to swim!\n 	Money (in case we want to celebrate with a trip to a local 
 pub at the end).\n\n\nGetting There\nWoy Woy train station is about a 10-1
 5 minute drive from Staples Lookout (our starting point). This is on the N
 ewcastle/Central Coast train line which runs pretty consistently from Cent
 ral Station (check Trip View for train times).\n\nAs usual\, we’ll organ
 ise carpooling among trip participants over the next few days. When signin
 g up for the trip\, please leave a comment indicating whether you need a l
 ift or if you have a car &amp\; can help with carpooling.
ATTACH;FMTTYPE=image/jpeg:https://unswoc.org/wordpress/wp-content/uploads/
 2023/04/Pindar-Falls-1-scaled.jpg
END:VEVENT
BEGIN:VTIMEZONE
TZID:Australia/Sydney
X-LIC-LOCATION:Australia/Sydney
BEGIN:STANDARD
DTSTART:20230402T020000
TZOFFSETFROM:+1100
TZOFFSETTO:+1000
TZNAME:AEST
END:STANDARD
END:VTIMEZONE
END:VCALENDAR