BEGIN:VCALENDAR
VERSION:2.0
PRODID:-//wp-events-plugin.com//7.2.3.1//EN
TZID:Australia/Sydney
X-WR-TIMEZONE:Australia/Sydney
BEGIN:VEVENT
UID:3373@unswoc.org
DTSTART;TZID=Australia/Sydney:20240225T090000
DTEND;TZID=Australia/Sydney:20240225T150000
DTSTAMP:20240220T043010Z
URL:https://unswoc.org/wordpress/events/day-hike-coastal-track-royal-natio
 nal-park/
SUMMARY:DAY HIKE – Coastal Track – Royal National Park
DESCRIPTION:\n\nHi everyone!\n\nMyself (Louis) and Lloyd will be running a 
 beginner's day hike this Sunday (25th Feb).\n\nWe'll be doing a section of
  the Royal Coast Track starting from Bundeena and going to Little Marley B
 each which is a ~14Km out and back trail through the coastal heathland and
  eucalyptus forests of the Royal NP\, along a relatively flat single trail
 \, and should be suitable for everyone regardless of hiking experience. Li
 ttle Marley is also a lovely spot for a swim so be sure to bring some swim
 mers if you want!\n\nWe will meet at Cronulla Station at 8:00am before wal
 king together to Cronulla Wharf to get the 8:30am ferry\, which should giv
 e us plenty of time to get the hike done by mid afternoon. Ferries run onl
 y once an hour so please be on time if not a bit early! The ferry also cos
 ts $4.40 for students and and $8.80 for general access (payable by card or
  cash) so be sure to bring student IDs and some money.\nAlso\, if anyone d
 rives and wants to meet us at Bundeena instead let us know\, we will be ar
 riving at Bundeena Wharf at 9:00am\nFor the return\, we will aim to be bac
 k at Bundeena Wharf for the 3:00pm ferry back to Cronulla.\n\nIt’s going
  to be a great day! So get excited for many spectacular cliff views\, wate
 rfalls\, beaches\, all sorts of finches\, and funky rock formations!\n\nWh
 at to bring:\n\n– backpack\n– hat\n– comfortable shoes to walk in\n
 – sunscreen\n– sunnies\n– 2L of water\n– snacks\n– lunch\n– sw
 immers\n– towel\n– first aid kit (if you have one)\n– any personal m
 edication you might normally carry with you\n– something to share\n– r
 ain jacket\n\nHow do I come along?\n\nContact us directly or sign up on th
 e page here\, we will try and contact everyone on Facebook and we will sta
 rt a group chat to finish the organising.\nIf you have any questions\, loo
 k for Lloyd Siharath or Louis Price on the UNSWOC facebook page and send u
 s a message! Trips will be approved Friday night.\n\nIn the comments\, ple
 ase let us know what hikes you’ve done\, why you’re keen for this hike
 \, and what your favourite trail snack is.\n\nFor some more info\, check o
 ut the links below:\n\nhttps://www.nationalparks.nsw.gov.au/things-to-do/w
 alking-tracks/the-coast-track\n\nhttps://www.sydneycoastwalks.com.au/royal
 -national-park-coastal-walk/\n\nhttp://www.wildwalks.com/bushwalking-and-h
 iking-in-nsw/royal-national-park/coast-track-otford-to-bundeena.html\n\nCh
 eers and look forward to seeing everyone on Sunday!!
CATEGORIES:Bushwalking,Hectic Hiking
LOCATION:https://www.google.com/maps/place/Cronulla+Wharf/@-34.0561665,151.
 1472971,17z/data=!3m1!4b1!4m6!3m5!1s0x6b12c80d74e1f15b:0x1d017d690380be80!
 8m2!3d-34.056171!4d151.149872!16s%2Fg%2F1tdnfdp_?entry=ttu
END:VEVENT
BEGIN:VTIMEZONE
TZID:Australia/Sydney
X-LIC-LOCATION:Australia/Sydney
BEGIN:DAYLIGHT
DTSTART:20231001T030000
TZOFFSETFROM:+1000
TZOFFSETTO:+1100
TZNAME:AEDT
END:DAYLIGHT
END:VTIMEZONE
END:VCALENDAR