BEGIN:VCALENDAR
VERSION:2.0
PRODID:-//wp-events-plugin.com//7.2.3.1//EN
TZID:Australia/Sydney
X-WR-TIMEZONE:Australia/Sydney
BEGIN:VEVENT
UID:2169@unswoc.org
DTSTART:20170902T201500Z
DTEND:20170903T070000Z
DTSTAMP:20170902T120728Z
URL:https://unswoc.org/wordpress/events/day-adventure-sassafras-gulley/
SUMMARY:Day Adventure to Sassafras Gulley
DESCRIPTION:Hi Guys!\n\nThis coming Sunday (the 3rd of September) myself an
 d the enigmatic Victor Grantham are gonna lead a team of 8 game adventurer
 s into the depths of the temperate Springwood rainforest! This isn't for t
 he faint of heart though: the track that I'm thinking of doing is the Sass
 afras Gulley Loop track\, a 10 km mammoth effort rated at a grade 4 diffic
 ulty at wildwalks.com (Sassafras Gulley Loop Track).\n\nThe weather on Su
 nday looks promising\, so we might as well start the walk somewhat early\,
  so here's the plan:\n\n	Meet at the south end of platform 18 at Central S
 tation at 7:35am\n	Catch the Richmond train (from platform 18) at 7:51am\n
 	Arrive at Blacktown Station at 8:36am and GET OFF THE TRAIN!!!!\n	Walk to
  the Blacktown Station Bus Stand M (Follow the signs for the buses to Penr
 ith/Lithgow)\n	Catch the 5BM bus at 8:43am to Springwood\n	Get off the bus
  at Springwood and look for a guy with a blue hiking bag\, black shirt\, a
 nd a straw hat (i.e. me!)\n	Begin the hike!\n\nHere's what you should prob
 ably bring:\n\n	3 Litres of Water (you can chuck some out along the way if
  its too much)\n	A Hat\n	Decent running/walking shoes (i.e. no thongs)\n	L
 unch and some snacks\n	Sunglasses for extra gangsta points\n	A jumper (it 
 can get cold in the shade in the gulleys there)\n	A backpack to carry it a
 ll in!\n\nWe will probably be hiking until at least 3pm\, perhaps even 4pm
 \, but we'll probably finish up the hike with a visit to casa del David (i
 .e. my home) for some tea and biscuits.\n\nIf you have any questions about
  this hike\, please feel free to contact me on facebook\, or send a text t
 o 041 399 1231\, but otherwise\, get keen!
ATTACH;FMTTYPE=image/jpeg:https://unswoc.org/wordpress/wp-content/uploads/
 2017/08/SGS14-11.jpg
CATEGORIES:Hectic Hiking
END:VEVENT
END:VCALENDAR