BEGIN:VCALENDAR
VERSION:2.0
PRODID:-//wp-events-plugin.com//7.2.3.1//EN
TZID:Australia/Sydney
X-WR-TIMEZONE:Australia/Sydney
BEGIN:VEVENT
UID:2231@unswoc.org
DTSTART:20180317T020000Z
DTEND:20180317T050000Z
DTSTAMP:20180309T010703Z
URL:https://unswoc.org/wordpress/events/dargans-creek-canyon/
SUMMARY:Dargan’s Creek Canyon
DESCRIPTION:&nbsp\;\n\nHey everyone!\n\nSo Louis and I (Xu Dong Feng\, Ben 
 is posting on my behalf) are going down to Dargan’s Creek Canyon on the 
 Saturday 17th of March. This is the PERFECT beginners canyon. There are no
  abseils\, but there are a few pools and swims on the route. Short and swe
 et\, you’ll leave Dargan’s creek with a newfound appreciation for all 
 things wet\, dark and slippery!\n\nLouis will be driving up from Sydney on
  the day and can bring up to four people with him.  We’ll start the can
 yon in the afternoon around 1pm. We have plenty of time to sleep in and re
 lax in the morning and potentially check out Dam Cliffs after (if you are 
 signed up).\n\nThis is a horizontal canyon so we’ll be able to bring alo
 ng a maximum 10 people including us.\n\n\nWhat to expect!\n\n&nbsp\;\n\nSk
 ill requirements?\nNONE! This is a beginners introduction to canyoning and
  climbing. Think of it as a more interactive hike.\n\nGear you will need:\
 nDrybag (waterproof bag to keep your clothes/camera/food dry)\nBackpack th
 at you don’t mind getting a bit wet and dirty\nLunch\nLong wool socks\nE
 nclosed shoes with GOOD grip. (Volleys are your friend)\nAt least 2L drink
 ing water\nClothing you can get wet in (synthetics are good\, cotton is a 
 big NO)\nWetsuit (if you get cold easily)*\nOld board shorts to wear over 
 wetsuit\nTowel\nChange of clothes\nHelmet*\n\n* Can be borrowed from the c
 lub on the Saturday.\n\nFacebook message me to join\, we’ll get a chat g
 oing once numbers are confirmed. See you all soon!\n\nXu Dong\n\n&nbsp\;
CATEGORIES:Canyoning
END:VEVENT
END:VCALENDAR