BEGIN:VCALENDAR
VERSION:2.0
PRODID:-//wp-events-plugin.com//7.2.3.1//EN
TZID:Australia/Sydney
X-WR-TIMEZONE:Australia/Sydney
BEGIN:VEVENT
UID:2474@unswoc.org
DTSTART;TZID=Australia/Sydney:20190928T070000
DTEND;TZID=Australia/Sydney:20190928T190000
DTSTAMP:20190925T013442Z
URL:https://unswoc.org/wordpress/events/dam-thats-some-nice-sport-climbing
 /
SUMMARY:Dam... that’s some nice sport climbing
DESCRIPTION:&nbsp\;\n\nHowdy all! Cameron and I are running a beginner/inte
 rmediate sports climbing trip at Dam Cliffs crag in the Blue Mountains. (h
 ttps://www.thecrag.com/climbing/australia/blue-mountains/the-dams-cliffs)\
 n\nThe plan is to drive down Saturday morning and drive home Saturday nigh
 t\, but camping in the mountains is also an option (if you so wish but we 
 won’t be organising this).\n\nIf you’re new to outdoor climbing and wa
 nt to get your first outdoor lead this is a great crag to do so\, or if yo
 u just want a chill day out in the mountains (and potentially some chilly 
 swimming)!\n\nTo climb to you’ll need to bring (or borrow from the club 
 on gear night):\n\n 	Helmet\n 	Harness\n 	ATC and carabiner\n 	Climbing sh
 oes\n\n**if you have your own gear please bring it\n\nAnd for general enjo
 yment and shenanigans\, bring along:\n\n 	Lunch\n 	Comfy clothes\n 	2L wat
 er\n 	Swimmers and towel\n 	Sunscreen\n 	$10 for your driver for fuel\n\nI
 f you have a car and can pick other people up let us know\, hope it’ll b
 e a great day!\n\n(If you have any questions shoot me - Greta Rit - or Cam
 eron Harkins a message on Facebook)
ATTACH;FMTTYPE=image/jpeg:https://unswoc.org/wordpress/wp-content/uploads/
 2019/09/677178B9-20B3-442A-950D-050C8B266B52.jpeg
CATEGORIES:Outdoor Climbing
END:VEVENT
BEGIN:VTIMEZONE
TZID:Australia/Sydney
X-LIC-LOCATION:Australia/Sydney
BEGIN:STANDARD
DTSTART:20190407T020000
TZOFFSETFROM:+1100
TZOFFSETTO:+1000
TZNAME:AEST
END:STANDARD
END:VTIMEZONE
END:VCALENDAR