BEGIN:VCALENDAR
VERSION:2.0
PRODID:-//wp-events-plugin.com//7.2.3.1//EN
TZID:Australia/Sydney
X-WR-TIMEZONE:Australia/Sydney
BEGIN:VEVENT
UID:714@unswoc.org
DTSTART:20150313T220000Z
DTEND:20150314T053000Z
DTSTAMP:20150310T060013Z
URL:https://unswoc.org/wordpress/events/dam-cliffs/
SUMMARY:Saturday Climbing - Boree Log - Dam Cliffs
DESCRIPTION:THIS TRIP IS NOW FULL\n\nHave you ever climbed outdoors before?
 \n\nNo\, well then this is the trip for you. We will be setting up a numbe
 r of top ropes over some easier grades. This means that even if you have n
 ever climbed before in your life you should be able to jump on some stuff.
 \n\nExperienced climber? \n\nWe would love your help setting up and teach
 ing. Believe it or not\, Dam Cliffs also offers a selection of harder rout
 es for those wanting to jump on some steep sport climbing.\n\nIf you have 
 your own harness and/or shoes please bring them as that way you won’t ha
 ve to be sharing them round.\n\nIf you don’t don’t worry we will have 
 a number of harnesses and shoes with us at the crag.\n\nAt the end of the 
 day there is also the possibility of a deep water solo or waterline which 
 involves getting wet so maybe bring a towel.
CATEGORIES:Boree Log,Outdoor Climbing
LOCATION:\, \, 
X-APPLE-STRUCTURED-LOCATION;VALUE=URI;X-ADDRESS=\, ;X-APPLE-RADIUS=100;X-TI
 TLE=:geo:0,0
END:VEVENT
END:VCALENDAR