BEGIN:VCALENDAR
VERSION:2.0
PRODID:-//wp-events-plugin.com//7.2.3.1//EN
TZID:Australia/Sydney
X-WR-TIMEZONE:Australia/Sydney
BEGIN:VEVENT
UID:1978@unswoc.org
DTSTART;VALUE=DATE:20160318
DTEND;VALUE=DATE:20160321
DTSTAMP:20160312T131135Z
URL:https://unswoc.org/wordpress/events/cycling-to-boree-log-arses-hewn-fr
 om-the-finest-granite/
SUMMARY:Cycling to Boree Log: Arses hewn from the finest granite...
DESCRIPTION:Hello all\,\n\nIt's boree log\, and some of you are probably wo
 ndering - how on earth do I get to that campground out at Mt Wilson. Fear 
 not\, if you have a bike\, I have a very simple\, yet efficient solution! 
 RIDE!\n\nThe plan is a follows. Catch the train from the city to Mt Victor
 ia Station. Ride from Mt Victoria to Mt Wilson\, about 25km. Ride up the b
 itch of a hill\, to harden our butts until they are as strong as forged st
 eel. Crack a beer.\n\nAnd then we'll ride back Sunday. Because it is only 
 25km\, it should be less than two hours each way\, and if you are feeling 
 lazy on the sunday\, you can just head to Bell station\, which is an even 
 briefer ride.\n\nI'm going to aim to leave for the mountains before 5pm\, 
 so we should be at Mt Wilson before 9pm\, if all goes to plan.\n\nFor thos
 e who don't want to carry/can't carry their gear\, you can put it in the c
 lub trailer in the days before. Make sure you bring some snacks\, as ridin
 g 25km on an empty stomach can be a bit shit. Also bring water\, and a war
 m jacket.\n\nAnd finally! Lights\, because the last thing we want is for p
 eople to get hit!\n\nSam out!
CATEGORIES:Cycle Touring
END:VEVENT
END:VCALENDAR