BEGIN:VCALENDAR
VERSION:2.0
PRODID:-//wp-events-plugin.com//7.2.3.1//EN
TZID:Australia/Sydney
X-WR-TIMEZONE:Australia/Sydney
BEGIN:VEVENT
UID:2086@unswoc.org
DTSTART:20161028T000000Z
DTEND:20161029T070000Z
DTSTAMP:20161023T044914Z
URL:https://unswoc.org/wordpress/events/cycling-to-boree-log-arses-hewn-fr
 om-the-finest-granite-2/
SUMMARY:Cycling to Boree Log: Arses hewn from the finest granite...
DESCRIPTION:Hola all!\n\nUnsure of how to get to Bungonia? Own a bike? Why 
 not ride!\n\nThe plan is to cycle tour over two days to reach the Bungonia
  campground on Saturday evening! We will take the Yalwal road to Yalwal ca
 mpground\, before continuing along the Yarramunmun fire trail until we rea
 ch the Braidwood road. From there we'll head along Oallen Ford road\, and 
 cross the Shoalhaven (hopefully not in flood). After that\, its along the 
 road until we reach the campground. Note that if you are coming\, you won
 't be able to participate in the Saturday trips. We will be around for the
  saturday night party!\n\nWhat you'll need:\n\nA BIKE! - You can't come wi
 thout one. You need to be willing to ride it on rough(ish) fire trails.\n\
 nThe club has touring gear - rack and panniers\, to take your gear. I can 
 help you attach these.\n\nCamping gear\n\nFood for two days.\n\nA willing 
 soul!\n\nCheerio!\nSamuel\n\n&nbsp\;
CATEGORIES:Cycle Touring
END:VEVENT
END:VCALENDAR