BEGIN:VCALENDAR
VERSION:2.0
PRODID:-//wp-events-plugin.com//7.2.3.1//EN
TZID:Australia/Sydney
X-WR-TIMEZONE:Australia/Sydney
BEGIN:VEVENT
UID:3386@unswoc.org
DTSTART;TZID=Australia/Sydney;VALUE=DATE:20240323
DTEND;TZID=Australia/Sydney;VALUE=DATE:20240324
DTSTAMP:20240229T021836Z
URL:https://unswoc.org/wordpress/events/cragcare-cleanup-day/
SUMMARY:Cragcare Cleanup Day
DESCRIPTION:Hi all\,\n\nThe first Cragcare cleanup day is for the 23rd Marc
 h\, so if your interested in volunteering to keep our crags and their appr
 oaches in good condition\, signup below and get in touch with cragcare@gma
 il.com with a name and contact details (including phone number) to help ou
 t. More details can be found on the facebook page.\n\n&nbsp\;\n\nFor peopl
 e who don't know what Cragcare is and the amazing work they do\, it is an 
 initiative by Blue Mountains rock climbers to help maintain and protect cl
 imbing areas with the local community. The day will involve manual labor t
 o help restore tracks\, or clean up rubbish and weeds. This would be a gre
 at opportunity to meet fellow club members and climbers!\n\n&nbsp\;\n\n\n\
 n&nbsp\;
ATTACH;FMTTYPE=image/jpeg:https://unswoc.org/wordpress/wp-content/uploads/
 2024/02/395280863_668115838757651_6632186725464277925_n.jpg
CATEGORIES:Climbing,Social Event
LOCATION:http://---
END:VEVENT
BEGIN:VTIMEZONE
TZID:Australia/Sydney
X-LIC-LOCATION:Australia/Sydney
BEGIN:DAYLIGHT
DTSTART:20231001T030000
TZOFFSETFROM:+1000
TZOFFSETTO:+1100
TZNAME:AEDT
END:DAYLIGHT
END:VTIMEZONE
END:VCALENDAR