BEGIN:VCALENDAR
VERSION:2.0
PRODID:-//wp-events-plugin.com//7.2.3.1//EN
TZID:Australia/Sydney
X-WR-TIMEZONE:Australia/Sydney
BEGIN:VEVENT
UID:2148@unswoc.org
DTSTART:20170505T210000Z
DTEND:20170506T060000Z
DTSTAMP:20170426T093018Z
URL:https://unswoc.org/wordpress/events/crag-care/
SUMMARY:Crag Care
DESCRIPTION:Howdy\,\n\nWe've registered a team from UNSWOC to help out with
  Crag Care on Saturday the 6th of May. Crag Care is an initiative where cl
 imbers help climbers - get your hands dirty and help clean up and improve 
 our crags. If you're a climber and have visited one of the many crags in t
 he Blueys\, you probably have Crag Care to thank!\n\nIf you're interested 
 and want to help out\, come along and enjoy a great day out. If that isn't
  enough to draw you in\, morning tea and lunch is provided (let me know if
  you're vego) - but bring a couple of snacks and water. as you're likely t
 o work up an appetite. Also I hear there's a 20% off discount for Big John
 's resoles as well.\n\nStill sussing out the location from the organisers
  but I think it'll be Shipley. I will confirm location and time.\n\nMessag
 e me if you have a car\, but I will be driving up. Yet to work out post Cr
 ag Care plans\, but depending on the crew and how things are looking could
  tie in a climbing trip on Sunday\n\nWhat to Bring:\n\n	Sturdy shoes\n	Clo
 thes to get doity in\n	Water and a few snacks\n	Hat and sunscreen\n	Climbi
 ng gear - might get a climb in after the event!\n	Tent etc if you plan to 
 stay in the Blueys!\n\nPeace\n\nAbs
CATEGORIES:Outdoor Climbing,Social Event
END:VEVENT
END:VCALENDAR