BEGIN:VCALENDAR
VERSION:2.0
PRODID:-//wp-events-plugin.com//7.2.3.1//EN
TZID:Australia/Sydney
X-WR-TIMEZONE:Australia/Sydney
BEGIN:VEVENT
UID:2168@unswoc.org
DTSTART:20170901T130000Z
DTEND:20170903T100000Z
DTSTAMP:20170826T014853Z
URL:https://unswoc.org/wordpress/events/crag-care-climbing-weekend/
SUMMARY:Crag Care and Climbing Weekend
DESCRIPTION:Hey folks\,\n\nCrag Care is coming up again on Saturday\, Septe
 mber 2. It involves volunteering your day to do some maintenance and impro
 vement at one of the Blueies crags that we all hold dear e.g. the last one
  was at Shipley Upper. Sounds a bit meh? It's actually super fun and we'll
  be combining it with a weekend of camping and climbing on the Sunday. Bas
 ically a Crag Care Climbing extravaganza!!!\n\nThe plan:\n\nSATURDAY: Crag
  Care from the morning until 3-4pm. If time permits we might squeeze a cli
 mb in. If not\, we'll head to the shops and get dinner and breakfast sorte
 d.\n\nSATURDAY NIGHT: Camping somewhere in the mountains.\n\nSUNDAY: Climb
 ing\n\nI've already told the organisers of Crag Care that UNSWOC will be b
 ringing 5 people so don't let me down! We may open up Sunday to more peopl
 e if they can only make climbing\, but really hoping peeps will be able to
  make both days. PM me if you have any questions :)\n\nCheers\,\n\nVicky
END:VEVENT
END:VCALENDAR