BEGIN:VCALENDAR
VERSION:2.0
PRODID:-//wp-events-plugin.com//7.2.3.1//EN
TZID:Australia/Sydney
X-WR-TIMEZONE:Australia/Sydney
BEGIN:VEVENT
UID:2620@unswoc.org
DTSTART;TZID=Australia/Sydney:20200404T080000
DTEND;TZID=Australia/Sydney:20200404T153000
DTSTAMP:20200318T224455Z
URL:https://unswoc.org/wordpress/events/crag-care-3/
SUMMARY:CANCELLED - Crag Care
DESCRIPTION:Due to COVID-19 Crag Care has been cancelled until further noti
 ce :(\nI'll make another event when it's back on.\n\n\nEver been to Barden
 's and admired the lovely access steps in the gully? Or maybe the beautifu
 l sandstone retaining walls around Shipley are more your thing. These work
 s are the result of volunteers participating in Crag Care.\n\n[caption id=
 "attachment_11247" align="aligncenter" width="225"] Stephen showing off wh
 ile Vicky does the hard work.[/caption]\n\nA group of us will be helping o
 ut on Saturday 4th of April\, location TBA.\n\nDetails on what to expect o
 n the day are below. We might be able to get a quick climb in the afternoo
 n as well :)\n\nThats the rough plan\, if you're keen sign up below (add a
 ny dietary requirements in the comments).\n\nCheck out Vicky's trip report
  from a previous Crag Care UNSWOC attended here.\n\n\n\nWhat happens on th
 e day:\n\nMeet in the morning ~8.30\nBring a bottle of water\, wear sturdy
  shoes &amp\; clothes you don't mind getting a bit dirty. (+ hat &amp\; su
 nscreen if needed). Gloves and protective glasses are provided by Cragcare
 \, but you are welcome to bring your own if you want (they are disposable)
 .\n\nMorning tea is provided around 10:30 (amazing pastries and fruit)\, a
 nd lunch around 1pm. The day will finish between 3-4.\n\n\n\nThis trip is 
 now full\, sign up below if you would like to go on the waiting list.\n\nT
 here is also a clean up at the three sisters on the same day. We could org
 anise a second group\, message me if you want help organising or are keen 
 on that
ATTACH;FMTTYPE=image/jpeg:https://unswoc.org/wordpress/wp-content/uploads/
 2020/03/20191102_100854lowres.jpg
END:VEVENT
BEGIN:VTIMEZONE
TZID:Australia/Sydney
X-LIC-LOCATION:Australia/Sydney
BEGIN:DAYLIGHT
DTSTART:20191006T030000
TZOFFSETFROM:+1000
TZOFFSETTO:+1100
TZNAME:AEDT
END:DAYLIGHT
END:VTIMEZONE
END:VCALENDAR