BEGIN:VCALENDAR
VERSION:2.0
PRODID:-//wp-events-plugin.com//7.2.3.1//EN
TZID:Australia/Sydney
X-WR-TIMEZONE:Australia/Sydney
BEGIN:VEVENT
UID:2540@unswoc.org
DTSTART;TZID=Australia/Sydney:20191102T083000
DTEND;TZID=Australia/Sydney:20191102T160000
DTSTAMP:20191030T035222Z
URL:https://unswoc.org/wordpress/events/crag-care-2/
SUMMARY:Crag Care
DESCRIPTION:Ever been to Barden's and admired the lovely access steps in th
 e gully? Or maybe the beautiful sandstone retaining walls around Shipley a
 re more your thing. These works are the result of volunteers participating
  in Crag Care.\n\n[caption id="attachment_8253" align="aligncenter" width=
 "300"] You could be like these two legends[/caption]\n\nA group of us will
  be contributing to this noble cause on Saturday 2nd November at Shipley/C
 entennial Glenn in Blackheath.\n\nDetails on what to expect on the day are
  below. We can probs get a quick climb in the afternoon\, and I'm consider
 ing staying up in the mountains so we might climb Sunday as well :)\n\nTha
 ts the rough plan\, if you're keen sign up below (add any dietary requirem
 ents in the comments).\n\nCheck out Vicky's trip report from a previous Cr
 ag Care UNSWOC attended here.\n\n\n\nOn the day:\n\nWe meet at 8:30 at Cen
 tennial Glen / Shipley carpark.\nBring a bottle of water\, wear sturdy sho
 es &amp\; clothes you don't mind getting a bit dirty. (+ hat &amp\; sunscr
 een if needed). Gloves and protective glasses are provided by Cragcare\, b
 ut you are welcome to bring your own if you want (they are disposable).\n\
 nMorning tea is provided around 10:30 (a little misguiding as there will b
 e no tea :)\, just pastries and fruit)\, and lunch around 1pm. The day wil
 l finish between 3-4.\n\n\n\nThis trip is now full\, sign up below if you 
 want to be on the waiting list :)
ATTACH;FMTTYPE=image/jpeg:https://unswoc.org/wordpress/wp-content/uploads/
 2017/08/20170506_110258-e1502083043976.jpg
CATEGORIES:Social Event
END:VEVENT
BEGIN:VTIMEZONE
TZID:Australia/Sydney
X-LIC-LOCATION:Australia/Sydney
BEGIN:DAYLIGHT
DTSTART:20191006T030000
TZOFFSETFROM:+1000
TZOFFSETTO:+1100
TZNAME:AEDT
END:DAYLIGHT
END:VTIMEZONE
END:VCALENDAR