BEGIN:VCALENDAR
VERSION:2.0
PRODID:-//wp-events-plugin.com//7.2.3.1//EN
TZID:Australia/Sydney
X-WR-TIMEZONE:Australia/Sydney
BEGIN:VEVENT
UID:3595@unswoc.org
DTSTART;TZID=Australia/Sydney:20250621T103000
DTEND;TZID=Australia/Sydney:20250621T170000
DTSTAMP:20250617T122856Z
URL:https://unswoc.org/wordpress/events/cowan-to-brooklyn-via-the-great-no
 rth-walk-day-hike/
SUMMARY:Cowan to Brooklyn via the Great North Walk [Day Hike]
DESCRIPTION:Photo: A very pretty bridge that we get to see on the walk!\n\n
 \n\nHellooooo!\n\nGrant and I (Sudarshan) are running a nice little day hi
 ke along a stretch of the Great North Walk. Should be quite pretty\, with 
 some walking along ridges and nice water views. This is a great way for th
 ose wanting to familiarize with the Central Coast country. Jerusalem Bay i
 s also very pretty 😻\n\nNo experience necessary. All are welcome! The t
 rack is well marked most of the way and the pace shouldn't be too demandin
 g. This should be quite a nice hike with train stations at beginning and e
 nd. There is also rumored to be a pub where we can have a nice bit of resp
 ite after!\n\nTrack notes/More Info\n\nHope to see you then! Feel free to 
 feel free to reach out to me at webadmin [at] unswoc.org or Grant on Faceb
 ook.\n\nWhat to bring:\n\n 	Sturdy shoes!\n 	Small-medium sized backpack t
 o hold your belongings\n 	About 2L of water **super important to have enou
 gh water!!**\n 	Lunch and snacks for the day\n 	A hat\n 	Any personal medi
 cation you may need\n 	A moderate jacket - the forecast is 18ºC which isn
 't particularly hot.\n\nWhen and Where:\n\n 	Saturday 21st June (end of we
 ek 3)\n 	Meet at 10:40am Cowan\n\n 	You can take the 09:48 train from Cent
 ral Station however trains only run every hour so don't miss it\n 	You can
  also drive there / carpooling can also be organised\n\n\n 	We will be fin
 ished by sunset\, so expect a return to Sydney by 6pm.\n\n&nbsp\;\n\nSo\, 
 if you are keen for a hike\, please tell us your hiking experience so far
 \, and the prettiest bridge you have seen (just so I know you’ve read al
 l this information).\n\nThis is a normal club hike\, so the limit of atten
 dees is 12. Get in early before signups are full 😆
ATTACH;FMTTYPE=image/jpeg:https://unswoc.org/wordpress/wp-content/uploads/
 2025/06/DSC03805-scaled.jpg
CATEGORIES:Bushwalking,Hectic Hiking
LOCATION:https://maps.app.goo.gl/nibu3Ng3KHcnVLgv5
END:VEVENT
BEGIN:VTIMEZONE
TZID:Australia/Sydney
X-LIC-LOCATION:Australia/Sydney
BEGIN:STANDARD
DTSTART:20250406T020000
TZOFFSETFROM:+1100
TZOFFSETTO:+1000
TZNAME:AEST
END:STANDARD
END:VTIMEZONE
END:VCALENDAR