BEGIN:VCALENDAR
VERSION:2.0
PRODID:-//wp-events-plugin.com//7.2.3.1//EN
TZID:Australia/Sydney
X-WR-TIMEZONE:Australia/Sydney
BEGIN:VEVENT
UID:2289@unswoc.org
DTSTART:20180926T130000Z
DTEND:20180930T130000Z
DTSTAMP:20180924T055227Z
URL:https://unswoc.org/wordpress/events/country-skiing/
SUMMARY:Back country skiing
DESCRIPTION:Let's go to the highest place in Australia! On Ski's!\n\nWe wil
 l be renting AT ski's from Rythm in Cooma. These are very cool\, as you ca
 n ski downhill style going down\, and then unclip the heel to walk up hill
 s\, or along the flat. So you do not need to know how to XC ski\, but they
  are quite expensive to hire (~$200). Because of that we will try to use t
 hem for as long as possible. Plan is to go up Thursday Night\, and return 
 Monday night\, giving us 3.5 days of skiing\, and taking advantage of the 
 long weekend. If this turns out to be a problem then we can change it to l
 eaving Friday night.\n\nPlan is to go up from dead horse gap\, and basical
 ly do a tour of the Main Range stopping along the way at the Ramsheads\, K
 osciusko\, and end at Thredbo\, using a car shuffle.\n\nIf you don't messa
 ge me you cannot come.
CATEGORIES:Backcountry
END:VEVENT
END:VCALENDAR