BEGIN:VCALENDAR
VERSION:2.0
PRODID:-//wp-events-plugin.com//7.2.3.1//EN
TZID:Australia/Sydney
X-WR-TIMEZONE:Australia/Sydney
BEGIN:VEVENT
UID:2603@unswoc.org
DTSTART;TZID=Australia/Sydney;VALUE=DATE:20200301
DTEND;TZID=Australia/Sydney;VALUE=DATE:20200302
DTSTAMP:20200225T225923Z
URL:https://unswoc.org/wordpress/events/cools-kids-go-trad-climbing-sunday
 -trad-trip/
SUMMARY:Cools kids go trad climbing - Sunday Trad Trip!
DESCRIPTION:Hey there!\n\nJeffrey\, Henry and I (Maria) are leading a TRAD 
 CLIMBING day trip this SUNDAY 1st March to the Blue Mountains. Specific lo
 cation to be announced\, but it'll be to Mount Piddington or Mount Boyce.\
 n\n 	The plan: Meeting at UNSW (Gear Cupboard) on Sunday early morning. Dr
 ive to the mountains (we need cars to carpool\, so if you have a car write
  it in the comments and you'll get preference). Spend a sick day top-ropin
 g\, learning how to climb trad (traditional) climbing\, and enjoying reall
 y pretty views. Finish climbing at sunset (bring a headtorch!) and drive b
 ack to UNSW on Sunday night.\n\n\n\nPhoto - Jamming to glory at the beauti
 ful of Mt Boyce\n\n 	The gear: Bring your own gear OR go visit the gear gu
 ys at the gear cupboard (UNSW\, don't forget a cash deposit) and grab your
 self a\n\n 	Helmet\n 	Harness\n 	Locking carabiner + belay device (ATC)\n 
 	Climbing shoes\n 	Chalk bag if you like\n\n\n 	Is this trip suitable for 
 you? Ideally\, this trip is for people who have a little bit of climbing e
 xperience and are keen to learn crack climbing and trad placements. Minimu
 m level top rope grade 14-15 to make the most of it. If you know how to le
 ad belay and lead competently\, you're more than welcome to join! So pleas
 e\, briefly write YOUR climbing experience in the comments.\n 	What to bri
 ng:\n\n 	Food and water for the day (it gets hot\, at least 2 L)\n 	Person
 al meds if needed\n 	Appropriate clothing for climbing and a jacket if it 
 gets cold\n 	A decent size backpack to fit all the climbing gear\n 	Enclos
 ed shoes for the approach\, it's very steep\n 	Sunscreen\, phone full of b
 attery\n\n\n\nAny question\, msg me (Maria LC) on Facebook or find me at t
 he Welcome BBQ this Thursday at The Ledge. Happy climbing!
ATTACH;FMTTYPE=image/jpeg:https://unswoc.org/wordpress/wp-content/uploads/
 2020/02/Capture.png
CATEGORIES:Outdoor Climbing
END:VEVENT
BEGIN:VTIMEZONE
TZID:Australia/Sydney
X-LIC-LOCATION:Australia/Sydney
BEGIN:DAYLIGHT
DTSTART:20191006T030000
TZOFFSETFROM:+1000
TZOFFSETTO:+1100
TZNAME:AEDT
END:DAYLIGHT
END:VTIMEZONE
END:VCALENDAR