BEGIN:VCALENDAR
VERSION:2.0
PRODID:-//wp-events-plugin.com//7.2.3.1//EN
TZID:Australia/Sydney
X-WR-TIMEZONE:Australia/Sydney
BEGIN:VEVENT
UID:2616@unswoc.org
DTSTART;TZID=Australia/Sydney;VALUE=DATE:20200301
DTEND;TZID=Australia/Sydney;VALUE=DATE:20200302
DTSTAMP:20200226T123858Z
URL:https://unswoc.org/wordpress/events/cooler-kids-go-sport-climbing-some
 times-sunday-sport-trip/
SUMMARY:Cooler kids go sport climbing (sometimes) - Sunday Sport Trip!
DESCRIPTION:Ash and I (Jenny) are leading a SPORT CLIMBING day trip this SU
 NDAY 1st March to the Blue Mountains. Specific location to be announced\, 
 but maybe Corroboree Walls.\n\n 	We'll be up in the mountains already so t
 he plan is to meet at the crag around 10am (we should be able to give lift
 s from a train station if you don't have a car). Let us know in the commen
 ts whether you've got a car and are able to give lifts from Sydney.\n 	The
  trip will be beginner friendly but you'll get more out of the day if you'
 ve been doing some (semi) regular climbing recently! Please let us know yo
 ur climbing experience in the comments.\n 	The gear: Bring your own gear O
 R go visit the gear guys at the gear cupboard (UNSW\, don't forget a cash 
 deposit) and grab yourself a:\n\n 	Helmet\n 	Harness\n 	Locking carabiner 
 + belay device (ATC)\n 	Climbing shoes\n 	Chalk bag if you like\n\n\n\nWha
 t else to bring:\n\n 	\n\n 	\n\n 	Food and water for the day (at least 2 L
 )\n 	Personal meds if needed\n 	Appropriate clothing for climbing and a ja
 cket in case it gets cold\n 	A decent size backpack to fit all the climbin
 g gear\n 	Enclosed shoes for the approach\n 	Sunscreen\n 	Phone full of ba
 ttery\n 	Petrol money for the driver/opal card for the train\n 	Enthusiasm
  to climb!\n\n\n\n\n\n&nbsp\;\n\nAny question\, msg me (Jenny Stansby) on 
 Facebook or find me at the Welcome BBQ this Thursday at The Ledge :)\n\nTh
 anks to Maria for the trip template!!\n\n
ATTACH;FMTTYPE=image/jpeg:https://unswoc.org/wordpress/wp-content/uploads/
 2020/02/Capture.png
CATEGORIES:Outdoor Climbing
END:VEVENT
BEGIN:VTIMEZONE
TZID:Australia/Sydney
X-LIC-LOCATION:Australia/Sydney
BEGIN:DAYLIGHT
DTSTART:20191006T030000
TZOFFSETFROM:+1000
TZOFFSETTO:+1100
TZNAME:AEDT
END:DAYLIGHT
END:VTIMEZONE
END:VCALENDAR