BEGIN:VCALENDAR
VERSION:2.0
PRODID:-//wp-events-plugin.com//7.2.3.1//EN
TZID:Australia/Sydney
X-WR-TIMEZONE:Australia/Sydney
BEGIN:VEVENT
UID:2917@unswoc.org
DTSTART;TZID=Australia/Sydney:20210617T074000
DTEND;TZID=Australia/Sydney:20210617T084500
DTSTAMP:20210616T062609Z
URL:https://unswoc.org/wordpress/events/coogee-stairs-5/
SUMMARY:Coogee Stairs
DESCRIPTION:We'll be back at South Coogee Stairs on Thursday this week. Hop
 e to see you there!\n\nMeet at the top of the South Coogee Stairs\, Dennin
 g Street at 7.40am.\n\nYou will need: running shoes\, sunscreen if you bu
 rn easily and some water. If you'd like to go for a quick dip in the ocea
 n after\, bring some swimmers as well :)\n\n
CATEGORIES:Training
END:VEVENT
BEGIN:VTIMEZONE
TZID:Australia/Sydney
X-LIC-LOCATION:Australia/Sydney
BEGIN:STANDARD
DTSTART:20210404T020000
TZOFFSETFROM:+1100
TZOFFSETTO:+1000
TZNAME:AEST
END:STANDARD
END:VTIMEZONE
END:VCALENDAR