BEGIN:VCALENDAR
VERSION:2.0
PRODID:-//wp-events-plugin.com//7.2.3.1//EN
TZID:Australia/Sydney
X-WR-TIMEZONE:Australia/Sydney
BEGIN:VEVENT
UID:2913@unswoc.org
DTSTART;TZID=Australia/Sydney:20210604T074000
DTEND;TZID=Australia/Sydney:20210604T084500
DTSTAMP:20210601T054721Z
URL:https://unswoc.org/wordpress/events/coogee-stairs-3/
SUMMARY:Coogee Stairs (Friday due to weather)
DESCRIPTION:Time for some more cardio this Friday at the South Coogee Stair
 s. Hope to see you there!\n\nMeet at the top of the South Coogee Stairs\, 
 Denning Street at 7.40am.\n\nYou will need: running shoes\, sunscreen if 
 you burn easily and some water. If you'd like to go for a quick dip in th
 e ocean after\, bring some swimmers as well :)\n\n
CATEGORIES:Training
END:VEVENT
BEGIN:VTIMEZONE
TZID:Australia/Sydney
X-LIC-LOCATION:Australia/Sydney
BEGIN:STANDARD
DTSTART:20210404T020000
TZOFFSETFROM:+1100
TZOFFSETTO:+1000
TZNAME:AEST
END:STANDARD
END:VTIMEZONE
END:VCALENDAR