BEGIN:VCALENDAR
VERSION:2.0
PRODID:-//wp-events-plugin.com//7.2.3.1//EN
TZID:Australia/Sydney
X-WR-TIMEZONE:Australia/Sydney
BEGIN:VEVENT
UID:2911@unswoc.org
DTSTART;TZID=Australia/Sydney:20210527T074000
DTEND;TZID=Australia/Sydney:20210527T084500
DTSTAMP:20210525T031636Z
URL:https://unswoc.org/wordpress/events/coogee-stairs-2/
SUMMARY:Coogee Stairs
DESCRIPTION:Join me again this Thursday for some cardio at the South Coogee
  Stairs. Everyone welcome - you can do as many or a little laps as you lik
 e!\n\nMeet at 11a Denning Street\, South Coogee at 7.40am.\n\nYou will nee
 d: running shoes\, sunscreen if you burn easily and some water. If you'd 
 like to go for a quick dip in the ocean after\, bring some swimmers as wel
 l :)\n\n
CATEGORIES:Training
END:VEVENT
BEGIN:VTIMEZONE
TZID:Australia/Sydney
X-LIC-LOCATION:Australia/Sydney
BEGIN:STANDARD
DTSTART:20210404T020000
TZOFFSETFROM:+1100
TZOFFSETTO:+1000
TZNAME:AEST
END:STANDARD
END:VTIMEZONE
END:VCALENDAR