BEGIN:VCALENDAR
VERSION:2.0
PRODID:-//wp-events-plugin.com//7.2.3.1//EN
TZID:Australia/Sydney
X-WR-TIMEZONE:Australia/Sydney
BEGIN:VEVENT
UID:2614@unswoc.org
DTSTART;TZID=Australia/Sydney:20191204T071500
DTEND;TZID=Australia/Sydney:20191204T084500
DTSTAMP:20200225T035131Z
URL:https://unswoc.org/wordpress/events/coogee-death-stairs-2019-12-04/
SUMMARY:Coogee Death Stairs
DESCRIPTION:Wednesdays. 7am. Running shoes. Coogee Death Stairs. We have a 
 date.\n\nJoin us (almost) every Wednesday for endurance and core training.
  You can walk the stairs\, run them\, do more laps\, less laps\, join us f
 or an ab workout or do some sunrise yoga\, up to you!\n\nMessage: Jeffrey 
 Kwan on Fb (or check our weekly Facebook post at UNSW Outdoors Club)\n\nMe
 eting point: 13 Denning Street\, South Coogee NSW\n\nWhat to bring: sport 
 clothes\, water\, energy and good vibes!\n\n 
ATTACH;FMTTYPE=image/jpeg:https://unswoc.org/wordpress/wp-content/uploads/
 2019/10/4.jpg
CATEGORIES:Training
END:VEVENT
BEGIN:VTIMEZONE
TZID:Australia/Sydney
X-LIC-LOCATION:Australia/Sydney
BEGIN:DAYLIGHT
DTSTART:20191006T030000
TZOFFSETFROM:+1000
TZOFFSETTO:+1100
TZNAME:AEDT
END:DAYLIGHT
END:VTIMEZONE
END:VCALENDAR